BEGIN:VCALENDAR
VERSION:2.0
PRODID:-// - ECPv6.15.20//NONSGML v1.0//EN
CALSCALE:GREGORIAN
METHOD:PUBLISH
X-ORIGINAL-URL:https://friendsofkaroricemetery.co.nz
X-WR-CALDESC:Events for 
REFRESH-INTERVAL;VALUE=DURATION:PT1H
X-Robots-Tag:noindex
X-PUBLISHED-TTL:PT1H
BEGIN:VTIMEZONE
TZID:UTC
BEGIN:STANDARD
TZOFFSETFROM:+0000
TZOFFSETTO:+0000
TZNAME:UTC
DTSTART:20250101T000000
END:STANDARD
END:VTIMEZONE
BEGIN:VEVENT
DTSTART;TZID=UTC:20260607T100000
DTEND;TZID=UTC:20260607T113000
DTSTAMP:20260423T191329
CREATED:20260302T175427Z
LAST-MODIFIED:20260303T060534Z
UID:3136-1780826400-1780831800@friendsofkaroricemetery.co.nz
SUMMARY:Accidentally Killed Tour
DESCRIPTION:Step into the past of Karori Cemetery with Accidentally Killed\, a hauntingly captivating tour revealing tragic tales of historical mishaps. Explore the untold stories of those who met unexpected ends through bizarre accidents\, shedding light on their lives and the mysteries that surround them. From peculiar accidents to curious incidents\, each grave holds a unique narrative waiting to be discovered. Join us for an unforgettable journey into the lesser-known corners of Wellington’s history\, where every headstone whispers a compelling story. \nThe tour duration is 1 hour 30mins and mostly follows paved surfaces but there are some areas of unevenness. \nEach tour is $10 per person (plus non-refundable booking fee). Children under 12 are free. \nTo book your ticket\, please visit our ticketing website: \nhttps://events.humanitix.com/friends-of-karori-cemetery-accidentally-killed-tour-june-2026 \nOur tour has a maximum capacity of about 15 persons. If there are insufficient tickets remaining for your party\, please email us at info@friendsofkaroricemetery.co.nz to check if we can accommodate you. \nNote:\nIf we have to cancel a tour due to inclement weather or sickness\, we will notify you on the day by 9am by email and on our Facebook page. The booking fee is non-refundable. \nPlease dress appropriately for the conditions. While we do our best to guide you on a safe walking route\, during the winter months the ground can become slippery in places. \nSome of our walks require a moderate degree of fitness and are not suited for those with limited mobility. Please read the tour descriptions carefully to check that they will be suitable for you. \nWe look forward to welcoming you to Karori Cemetery.
URL:https://friendsofkaroricemetery.co.nz/event/accidentally-killed/
LOCATION:Karori Cemetery\, The Shelter\, Karori Cemetery\, 76 Old Karori Road\, Wellington\, New Zealand
CATEGORIES:Tours
ATTACH;FMTTYPE=image/jpeg:https://friendsofkaroricemetery.co.nz/wp-content/uploads/2023/02/copy-scaled.jpg
END:VEVENT
BEGIN:VEVENT
DTSTART;TZID=UTC:20260607T130000
DTEND;TZID=UTC:20260607T143000
DTSTAMP:20260423T191329
CREATED:20260302T180526Z
LAST-MODIFIED:20260302T180526Z
UID:3138-1780837200-1780842600@friendsofkaroricemetery.co.nz
SUMMARY:First Burials Tour
DESCRIPTION:Please note: This tour contains content and stories from two of our previous tours City and Nation Builders. \nFrom 1840 to 1900 Wellington went through an extraordinary period of development and change.  A small rugged beach under cliffs was transformed into NZ’s major port\, NZ’s largest commercial centre and the seat of government.   The Friend’s walking tour ‘First Burials – an introduction to the oldest parts of Karori Cemetery’ visits the graves of the industrialists\, merchants\, artists\, doctors\, lawyers\, teachers\, politicians\, engineers\, architects and scientists who made all this happen. We bring to life the early history of Wellington by telling the story of their experiences and exploits.  The tour visits the old Public\, Anglican\, Catholic\, and Servicemens Cemetery sections that lie at the centre of the Cemetery.  This is a relatively compact area and the tour\, though taking up to 2 hours\, does not involve any difficult terrain. \nTo book your ticket\, please visit our ticketing website: \nhttps://events.humanitix.com/friends-of-karori-cemetery-first-burials-june-2026 \nEach tour is $10 per person (plus non-refundable booking fee). Children under 12 are free. \nOur tour has a maximum capacity of about 15 persons. If there are insufficient tickets remaining for your party\, please email us at info@friendsofkaroricemetery.co.nz to check if we can accommodate you.
URL:https://friendsofkaroricemetery.co.nz/event/first-burials-tour/
LOCATION:Karori Cemetery\, The Shelter\, Karori Cemetery\, 76 Old Karori Road\, Wellington\, New Zealand
CATEGORIES:Tours
ATTACH;FMTTYPE=image/jpeg:https://friendsofkaroricemetery.co.nz/wp-content/uploads/2026/03/MA_I945459_TePapa_Wellington_cropped.jpg
END:VEVENT
END:VCALENDAR