BEGIN:VCALENDAR
VERSION:2.0
PRODID:-// - ECPv6.15.20//NONSGML v1.0//EN
CALSCALE:GREGORIAN
METHOD:PUBLISH
X-ORIGINAL-URL:https://friendsofkaroricemetery.co.nz
X-WR-CALDESC:Events for 
REFRESH-INTERVAL;VALUE=DURATION:PT1H
X-Robots-Tag:noindex
X-PUBLISHED-TTL:PT1H
BEGIN:VTIMEZONE
TZID:UTC
BEGIN:STANDARD
TZOFFSETFROM:+0000
TZOFFSETTO:+0000
TZNAME:UTC
DTSTART:20250101T000000
END:STANDARD
END:VTIMEZONE
BEGIN:VEVENT
DTSTART;TZID=UTC:20260503T130000
DTEND;TZID=UTC:20260503T143000
DTSTAMP:20260423T174606
CREATED:20260302T175128Z
LAST-MODIFIED:20260302T175128Z
UID:3134-1777813200-1777818600@friendsofkaroricemetery.co.nz
SUMMARY:Murder & Mayhem Tour
DESCRIPTION:Karori Cemetery is the final resting place for people whose lives ended tragically – from drowning\, from murder\, and from accidents of all kinds. This tour includes the story of three militia men killed in a guncotton explosion; an attempted murder followed by suicide; a drowning or two plus other exciting stories. \nEach tour is $10 per person (plus non-refundable booking fee). Children under 12 are free. \nTo book your ticket\, please visit our ticketing website Humanitix: \nhttps://events.humanitix.com/friends-of-karori-cemetery-murder-and-mayhem-tour-may-2026 \nOur tour has a maximum capacity of about 15 persons. If there are insufficient tickets remaining for your party\, please email us at info@friendsofkaroricemetery.co.nz to check if we can accommodate you. \nNote:\nIf we have to cancel a tour due to inclement weather or sickness\, we will notify you on the day by 9am by email and on our Facebook page. The booking fee is non-refundable. \nPlease dress appropriately for the conditions. While we do our best to guide you on a safe walking route\, during the winter months the ground can become slippery in places. \nSome of our walks require a moderate degree of fitness and are not suited for those with limited mobility. Please read the tour descriptions carefully to check that they will be suitable for you. \nWe look forward to welcoming you to Karori Cemetery.
URL:https://friendsofkaroricemetery.co.nz/event/murder-mayhem-tour-15/
LOCATION:Karori Cemetery\, The Shelter\, Karori Cemetery\, 76 Old Karori Road\, Wellington\, New Zealand
CATEGORIES:Tours
ATTACH;FMTTYPE=image/jpeg:https://friendsofkaroricemetery.co.nz/wp-content/uploads/2022/11/IMG_6213-edited.jpg
END:VEVENT
BEGIN:VEVENT
DTSTART;TZID=UTC:20260510T103000
DTEND;TZID=UTC:20260510T121500
DTSTAMP:20260423T174606
CREATED:20260302T174421Z
LAST-MODIFIED:20260322T171924Z
UID:3132-1778409000-1778415300@friendsofkaroricemetery.co.nz
SUMMARY:Tales From the Vaults Tour
DESCRIPTION:Find out who is in and who is out of some of Karori cemetery’s most substantial dwellings. Note: tours do not enter vaults or try them out for size. \nThe tour duration is 1 hour 45mins. \nThis tour is suitable for people with moderate fitness. The route mostly follows paved surfaces but there are some areas of unevenness. Surefootedness is required. This tour involves approximately 2km of walking\, with some slow paced but uphill stints \nEach tour is $10 per person (plus non-refundable booking fee). Children under 12 are free. Please visit our ticketing website to book: \nhttps://events.humanitix.com/friends-of-karori-cemetery-tales-from-the-vaults-tour-may-2026 \nOur tour has a maximum capacity of about 15 persons. If there are insufficient tickets remaining for your party\, please email us at info@friendsofkaroricemetery.co.nz to check if we can accommodate you. \nNote:\nIf we have to cancel a tour due to inclement weather or sickness\, we will notify you on the day by 9am by email and on our Facebook page. The booking fee is non-refundable. \nPlease dress appropriately for the conditions. While we do our best to guide you on a safe walking route\, during the winter months the ground can become slippery in places. \nSome of our walks require a moderate degree of fitness and are not suited for those with limited mobility. Please read the tour descriptions carefully to check that they will be suitable for you. \nWe look forward to welcoming you to Karori Cemetery.
URL:https://friendsofkaroricemetery.co.nz/event/tales-from-the-vaults-tour-13/
LOCATION:Karori Cemetery\, The Shelter\, Karori Cemetery\, 76 Old Karori Road\, Wellington\, New Zealand
CATEGORIES:Tours
ATTACH;FMTTYPE=image/jpeg:https://friendsofkaroricemetery.co.nz/wp-content/uploads/2025/01/Three-Vaults-reduced.jpg
END:VEVENT
BEGIN:VEVENT
DTSTART;TZID=UTC:20260522T193000
DTEND;TZID=UTC:20260522T211500
DTSTAMP:20260423T174606
CREATED:20260323T172844Z
LAST-MODIFIED:20260323T172844Z
UID:3259-1779478200-1779484500@friendsofkaroricemetery.co.nz
SUMMARY:Evening Tour
DESCRIPTION:Would you like to join us and explore the beauty of Karori Cemetery in the evening? \nThis tour is for anyone who would like to see the Cemetery through a different lens\, as the landscape settles in from dusk to darkness. On this walk you’ll be accompanied by two guides who will take you on a wander through some of the most magical parts of the cemetery\, with a story or two of early Wellingtonians along the route. We might even spy a Ruru/Morepork or two! The tour does not have any scary themes. There are points on the tour where we may pause and turn off our torches to enjoy the landscape in the darkness. \nThe tour is of approximately 1.5-2 hours duration and starts and finishes at the Main Chapel on Rosehaugh Avenue\, where there is plenty of easy parking. \nEach attendee needs to bring their own torch that they can comfortably carry for the duration. No head torches please for the comfort of your fellow walkers. \nThe route mostly follows paved surfaces but there are some areas of unevenness. Surefootedness is required. This tour involves approximately 2km of walking\, with some slow paced but uphill stints. \nThe tour is not suited for children under the age of 12 or unaccompanied minors. There are no toilets on the route. \nEach tour is $10 per person (plus non-refundable booking fee). \nTo book your ticket\, please visit our ticketing website: \nWould you like to join us and explore the beauty of Karori Cemetery in the evening? \nThis tour is for anyone who would like to see the Cemetery through a different lens\, as the landscape settles in from dusk to darkness. On this walk you’ll be accompanied by two guides who will take you on a wander through some of the most magical parts of the cemetery\, with a story or two of early Wellingtonians along the route. We might even spy a Ruru/Morepork or two! The tour does not have any scary themes. There are points on the tour where we may pause and turn off our torches to enjoy the landscape in the darkness. \nThe tour is of approximately 1.5-2 hours duration and starts and finishes at the Main Chapel on Rosehaugh Avenue\, where there is plenty of easy parking. \nEach attendee needs to bring their own torch that they can comfortably carry for the duration. No head torches please for the comfort of your fellow walkers. \nThe route mostly follows paved surfaces but there are some areas of unevenness. Surefootedness is required. This tour involves approximately 2km of walking\, with some slow paced but uphill stints. \nThe tour is not suited for children under the age of 12 or unaccompanied minors. There are no toilets on the route. \nEach tour is $10 per person (plus non-refundable booking fee). \nTo book your ticket\, please visit our ticketing website: \nhttps://events.humanitix.com/friends-of-karori-cemetery-evening-tour-may-2026 \nOur tour has a maximum capacity of about 15 persons. If there are insufficient tickets remaining for your party\, please email us at info@friendsofkaroricemetery.co.nz to check if we can accommodate you. \nPlease note: \nIf we have to cancel a tour due to inclement weather or sickness\, we will notify you on the day 1 hour before the tour starts by email and on our Facebook page. The booking fee is non-refundable. \nPlease dress appropriately for the conditions. While we do our best to guide you on a safe walking route\, the ground can become slippery in places. \nSome of our walks require a moderate degree of fitness and are not suited for those with limited mobility. \nIf you have purchased tickets for other people can you please pass our tour information on to them as well. \nWe look forward to welcoming you to Karori Cemetery.
URL:https://friendsofkaroricemetery.co.nz/event/evening-tour-13/
LOCATION:Main Chapel\, Karori Cemetery\, 15 Rosehaugh Avenue\, Karori\, Wellington\, New Zealand
ATTACH;FMTTYPE=image/jpeg:https://friendsofkaroricemetery.co.nz/wp-content/uploads/2025/12/Evening-Tour-Crosses.jpg
END:VEVENT
END:VCALENDAR