BEGIN:VCALENDAR
VERSION:2.0
PRODID:-// - ECPv6.15.20//NONSGML v1.0//EN
CALSCALE:GREGORIAN
METHOD:PUBLISH
X-ORIGINAL-URL:https://friendsofkaroricemetery.co.nz
X-WR-CALDESC:Events for 
REFRESH-INTERVAL;VALUE=DURATION:PT1H
X-Robots-Tag:noindex
X-PUBLISHED-TTL:PT1H
BEGIN:VTIMEZONE
TZID:UTC
BEGIN:STANDARD
TZOFFSETFROM:+0000
TZOFFSETTO:+0000
TZNAME:UTC
DTSTART:20240101T000000
END:STANDARD
END:VTIMEZONE
BEGIN:VEVENT
DTSTART;TZID=UTC:20251207T103000
DTEND;TZID=UTC:20251207T123000
DTSTAMP:20260423T215613
CREATED:20250908T070329Z
LAST-MODIFIED:20250908T070329Z
UID:2833-1765103400-1765110600@friendsofkaroricemetery.co.nz
SUMMARY:Gallows Tour
DESCRIPTION:Crime\, Justice\, and the Final Walk.\nDelve into the complex history of capital punishment in Wellington with this thought-provoking tour through Karori Cemetery. Gallows shines a light on the people behind the process. Discover their roles in shaping justice\, the cases that defined their careers\, and the human stories behind a system of ultimate consequence. \nEach tour is $10 per person (plus non-refundable booking fee). Children under 12 are free. \nTo book your tickets\, please visit our ticketing website Humanitix: \nhttps://events.humanitix.com/friends-of-karori-cemetery-gallows-tour-dec-2025 \nOur tour has a maximum capacity of about 15 persons. If there are insufficient tickets remaining for your party\, please email us at info@friendsofkaroricemetery.co.nz to check if we can accommodate you. \nPlease note: \nIf we have to cancel a tour due to inclement weather or sickness\, we will notify you on the day 1 hour before the tour starts by email and on our Facebook page. The booking fee is non-refundable.\nThis tour is approximately 2 hours long.\nThis tour contains a number of adult themes and some graphic descriptions so is not suitable for everyone. \nPlease dress appropriately for the conditions.\nWhile we do our best to guide you on a safe walking route\, during the winter months the ground can become slippery in places.\nSome of our walks require a moderate degree of fitness and are not suited for those with limited mobility.\nThere is only one toilet which is located by the cemetery office at the main entrance.\nIf you have purchased tickets for other people can you please pass our tour information on to them as well.\nPlease meet us at the shelter (shown as the Historic Chapel on the map at the main entrance)
URL:https://friendsofkaroricemetery.co.nz/event/gallows-tour/
LOCATION:Karori Cemetery\, The Shelter\, Karori Cemetery\, 76 Old Karori Road\, Wellington\, New Zealand
CATEGORIES:Tours
ATTACH;FMTTYPE=image/jpeg:https://friendsofkaroricemetery.co.nz/wp-content/uploads/2025/09/Gallows-Jpeg.jpg
END:VEVENT
BEGIN:VEVENT
DTSTART;TZID=UTC:20251207T140000
DTEND;TZID=UTC:20251207T153000
DTSTAMP:20260423T215613
CREATED:20250908T065540Z
LAST-MODIFIED:20250908T065540Z
UID:2823-1765116000-1765121400@friendsofkaroricemetery.co.nz
SUMMARY:National Monuments Tour
DESCRIPTION:The two main stops on the tour are the cemetery’s two national Monuments – the Tangiwai disaster and Prime Minister Peter Fraser. We will review what happened at Tangiwai and especially the bravery of the trains crew and in addition\, what the court of inquiry found about the safety of the bridge. \nPeter Fraser is generally regarded as one of New Zealands’s best Prime Ministers of the 20th century\, and we explore his initiatives in public health and education and also his leadership during WW2. \nThese are just two of the several stops we will make. \nEach tour is $10 per person (plus non-refundable booking fee). Children under 12 are free. \nTickets can be booked on our ticketing website Humanitix on the following link: \nhttps://events.humanitix.com/friends-of-karori-cemetery-national-monuments-dec-2025 \nOur tour has a maximum capacity of about 15 persons. If there are insufficient tickets remaining for your party\, please email us at info@friendsofkaroricemetery.co.nz to check if we can accommodate you. \nPlease note: \nThis tour requires reasonable physical fitness and sadly is not suited for those with limited mobility. \nIf we have to cancel a tour due to inclement weather or sickness\, we will notify you 1 hour before the tour start time by email and on our Facebook page. The booking fee is non-refundable. \nPlease dress appropriately for the conditions. While we do our best to guide you on a safe walking route\, during the winter months the ground can become slippery in places. \nWe look forward to welcoming you to Karori Cemetery.
URL:https://friendsofkaroricemetery.co.nz/event/national-monuments-tour/
LOCATION:Karori Cemetery\, The Shelter\, Karori Cemetery\, 76 Old Karori Road\, Wellington\, New Zealand
CATEGORIES:Tours
ATTACH;FMTTYPE=image/jpeg:https://friendsofkaroricemetery.co.nz/wp-content/uploads/2020/05/IMG_2399.jpg
END:VEVENT
END:VCALENDAR