BEGIN:VCALENDAR
VERSION:2.0
PRODID:-// - ECPv6.15.20//NONSGML v1.0//EN
CALSCALE:GREGORIAN
METHOD:PUBLISH
X-ORIGINAL-URL:https://friendsofkaroricemetery.co.nz
X-WR-CALDESC:Events for 
REFRESH-INTERVAL;VALUE=DURATION:PT1H
X-Robots-Tag:noindex
X-PUBLISHED-TTL:PT1H
BEGIN:VTIMEZONE
TZID:UTC
BEGIN:STANDARD
TZOFFSETFROM:+0000
TZOFFSETTO:+0000
TZNAME:UTC
DTSTART:20240101T000000
END:STANDARD
END:VTIMEZONE
BEGIN:VEVENT
DTSTART;TZID=UTC:20251102T140000
DTEND;TZID=UTC:20251102T153000
DTSTAMP:20260423T232312
CREATED:20250908T065513Z
LAST-MODIFIED:20250908T065513Z
UID:2830-1762092000-1762097400@friendsofkaroricemetery.co.nz
SUMMARY:More Catholic Tales Tour
DESCRIPTION:Hear about a poet\, a writer\, soldiers and stories of Wellington history. Further Catholic Tales tells the stories of the wide range of people interred in the section known as Catholic 2. \nThe tour duration is 1 hour 30mins. The tour mostly follows paved surfaces but there are some areas of unevenness. \nTo book your ticket\, please visit our ticketing website Humanitix: \nhttps://events.humanitix.com/friends-of-karori-cemetery-more-catholic-tales-nov-2025 \nEach tour is $10 per person (plus non-refundable booking fee). Children under 12 are free. \nOur tour has a maximum capacity of about 15 persons. If there are insufficient tickets remaining for your party\, please email us at info@friendsofkaroricemetery.co.nz to check if we can accommodate you. \nNote:\nIf we have to cancel a tour due to inclement weather or sickness\, we will notify you on the day by 9am by email and on our Facebook page. The booking fee is non-refundable. \nPlease dress appropriately for the conditions. While we do our best to guide you on a safe walking route\, during the winter months the ground can become slippery in places. \nSome of our walks require a moderate degree of fitness and are not suited for those with limited mobility. Please read the tour descriptions carefully to check that they will be suitable for you. \nWe look forward to welcoming you to Karori Cemetery.
URL:https://friendsofkaroricemetery.co.nz/event/more-catholic-tales-tour-2/
LOCATION:Karori Cemetery\, The Shelter\, Karori Cemetery\, 76 Old Karori Road\, Wellington\, New Zealand
CATEGORIES:Tours
ATTACH;FMTTYPE=image/jpeg:https://friendsofkaroricemetery.co.nz/wp-content/uploads/2022/09/IMG_7348-scaled.jpg
END:VEVENT
END:VCALENDAR