BEGIN:VCALENDAR
VERSION:2.0
PRODID:-// - ECPv6.15.20//NONSGML v1.0//EN
CALSCALE:GREGORIAN
METHOD:PUBLISH
X-ORIGINAL-URL:https://friendsofkaroricemetery.co.nz
X-WR-CALDESC:Events for 
REFRESH-INTERVAL;VALUE=DURATION:PT1H
X-Robots-Tag:noindex
X-PUBLISHED-TTL:PT1H
BEGIN:VTIMEZONE
TZID:UTC
BEGIN:STANDARD
TZOFFSETFROM:+0000
TZOFFSETTO:+0000
TZNAME:UTC
DTSTART:20240101T000000
END:STANDARD
END:VTIMEZONE
BEGIN:VEVENT
DTSTART;TZID=UTC:20251018T103000
DTEND;TZID=UTC:20251018T121500
DTSTAMP:20260424T005151
CREATED:20250908T065329Z
LAST-MODIFIED:20251002T172918Z
UID:2828-1760783400-1760789700@friendsofkaroricemetery.co.nz
SUMMARY:Tales from the Vaults Tour SOLD OUT
DESCRIPTION:Apologies this tour is now sold out. \nFind out who is in and who is out of some of Karori cemetery’s most substantial dwellings. Note: tours do not enter vaults or try them out for size. \nThe tour duration is 1 hour 45mins. \nThis tour is suitable for people with moderate fitness. The route mostly follows paved surfaces but there are some areas of unevenness. Surefootedness is required. This tour involves approximately 2km of walking\, with some slow paced but uphill stints \nEach tour is $10 per person (plus non-refundable booking fee). Children under 12 are free. Please visit our ticketing website to book: \nhttps://events.humanitix.com/friends-of-karori-cemetery-2025-wellington-heritage-festival-tales-from-the-vaults-tour \nOur tour has a maximum capacity of about 15 persons. If there are insufficient tickets remaining for your party\, please email us at info@friendsofkaroricemetery.co.nz to check if we can accommodate you. \nNote:\nIf we have to cancel a tour due to inclement weather or sickness\, we will notify you on the day by 9am by email and on our Facebook page. The booking fee is non-refundable. \nPlease dress appropriately for the conditions. While we do our best to guide you on a safe walking route\, during the winter months the ground can become slippery in places. \nSome of our walks require a moderate degree of fitness and are not suited for those with limited mobility. Please read the tour descriptions carefully to check that they will be suitable for you. \nWe look forward to welcoming you to Karori Cemetery.
URL:https://friendsofkaroricemetery.co.nz/event/tales-from-the-vaults-tour-12/
LOCATION:Karori Cemetery\, The Shelter\, Karori Cemetery\, 76 Old Karori Road\, Wellington\, New Zealand
ATTACH;FMTTYPE=image/jpeg:https://friendsofkaroricemetery.co.nz/wp-content/uploads/2025/01/Three-Vaults-reduced.jpg
END:VEVENT
BEGIN:VEVENT
DTSTART;TZID=UTC:20251018T130000
DTEND;TZID=UTC:20251018T143000
DTSTAMP:20260424T005151
CREATED:20250908T065346Z
LAST-MODIFIED:20251002T172841Z
UID:2821-1760792400-1760797800@friendsofkaroricemetery.co.nz
SUMMARY:Our Fair Ladies Tour SOLD OUT
DESCRIPTION:Apologies this tour is now sold out. \nEmbark on a captivating journey through the history buried in Karori Cemetery with our tour showcasing the remarkable lives of Wellington’s women. \nThis tour offers a unique opportunity to celebrate the resilience\, creativity and empowerment of women at a time when a woman couldn’t have a bank account in her own name.  You’ll hear the stories of women who had a range of interesting occupations. Be inspired by the incredible impact of these women’s lives in early Wellington. Tickets are $10 per person\, children under 12 are free. Tickets are available from our ticketing website on the link below: \nhttps://events.humanitix.com/friends-of-karori-cemetery-2025-wellington-heritage-festival-our-fair-ladies-april-2025 \nOur tour has a maximum capacity of about 15 persons. If there are insufficient tickets remaining for your party\, please email us at info@friendsofkaroricemetery.co.nz to check if we can accommodate you. \nNote:\nIf we have to cancel a tour due to inclement weather or sickness\, we will notify you on the day by 9am by email and on our Facebook page.\nPlease dress appropriately for the conditions. While we do our best to guide you on a safe walking route\, during the winter months the ground can become slippery in places. \nSome of our walks require a moderate degree of fitness and are not suited for those with limited mobility. Please read the tour descriptions carefully to check that they will be suitable for you. \nWe look forward to welcoming you to Karori Cemetery.
URL:https://friendsofkaroricemetery.co.nz/event/our-fair-ladies-tour-3/
LOCATION:Karori Cemetery\, The Shelter\, Karori Cemetery\, 76 Old Karori Road\, Wellington\, New Zealand
ATTACH;FMTTYPE=image/jpeg:https://friendsofkaroricemetery.co.nz/wp-content/uploads/2024/09/Our-Fair-Ladies.jpg
END:VEVENT
BEGIN:VEVENT
DTSTART;TZID=UTC:20251019T103000
DTEND;TZID=UTC:20251019T120000
DTSTAMP:20260424T005151
CREATED:20250908T065409Z
LAST-MODIFIED:20250914T020325Z
UID:2826-1760869800-1760875200@friendsofkaroricemetery.co.nz
SUMMARY:Tragedies Tour - SOLD OUT
DESCRIPTION:Apologies but this tour has now sold out. \nCome and hear stories of those who met sad\, shocking and untimely ends. This tour traverses some of the older parts of the story where historic headstones mark the stories of lives lost too soon: accidents\, murder\, misadventure and those who fell by their own hand. \nThis tour contains a number of adult themes and some graphic descriptions so is not suitable for everyone. \nTo secure your ticket\, please follow the link to our ticketing page on Humanitix: \nhttps://events.humanitix.com/friends-of-karori-cemetery-tragedies-tour \nEach tour is $10 per person (plus non-refundable booking fee). Children under 12 are free. \nOur tour has a maximum capacity of about 15 persons. If there are insufficient tickets remaining for your party\, please email us at info@friendsofkaroricemetery.co.nz to check if we can accommodate you. \nPlease note: \nIf we have to cancel a tour due to inclement weather or sickness\, we will notify you on the day 1 hour before the tour starts by email and on our Facebook page. The booking fee is non-refundable. \nThis tour is approximately 2 hours long. \nPlease dress appropriately for the conditions. While we do our best to guide you on a safe walking route\, during the winter months the ground can become slippery in places. \nSome of our walks require a moderate degree of fitness and are not suited for those with limited mobility. \nThere is only one toilet which is located by the cemetery office at the main entrance. \nIf you have purchased tickets for other people can you please pass our tour information on to them as well. \nPlease meet us at the shelter (shown as the Historic Chapel on the map at the main entrance) \nWe look forward to welcoming you to Karori Cemetery.
URL:https://friendsofkaroricemetery.co.nz/event/tragedies-tour/
LOCATION:Karori Cemetery\, The Shelter\, Karori Cemetery\, 76 Old Karori Road\, Wellington\, New Zealand
CATEGORIES:Tours
ATTACH;FMTTYPE=image/jpeg:https://friendsofkaroricemetery.co.nz/wp-content/uploads/2025/01/Public2-Angel-3.jpg
END:VEVENT
END:VCALENDAR