BEGIN:VCALENDAR
VERSION:2.0
PRODID:-// - ECPv6.15.20//NONSGML v1.0//EN
CALSCALE:GREGORIAN
METHOD:PUBLISH
X-ORIGINAL-URL:https://friendsofkaroricemetery.co.nz
X-WR-CALDESC:Events for 
REFRESH-INTERVAL;VALUE=DURATION:PT1H
X-Robots-Tag:noindex
X-PUBLISHED-TTL:PT1H
BEGIN:VTIMEZONE
TZID:UTC
BEGIN:STANDARD
TZOFFSETFROM:+0000
TZOFFSETTO:+0000
TZNAME:UTC
DTSTART:20240101T000000
END:STANDARD
END:VTIMEZONE
BEGIN:VEVENT
DTSTART;TZID=UTC:20250706T100000
DTEND;TZID=UTC:20250706T113000
DTSTAMP:20260424T054338
CREATED:20250427T055847Z
LAST-MODIFIED:20250628T215629Z
UID:2668-1751796000-1751801400@friendsofkaroricemetery.co.nz
SUMMARY:Accidentally Killed Tour - SOLD OUT
DESCRIPTION:Step into the past of Karori Cemetery with “Accidentally Killed\,” a hauntingly captivating tour revealing tragic tales of historical mishaps. Explore the untold stories of those who met unexpected ends through bizarre accidents\, shedding light on their lives and the mysteries that surround them. From peculiar accidents to curious incidents\, each grave holds a unique narrative waiting to be discovered. Join us for an unforgettable journey into the lesser-known corners of Wellington’s history\, where every headstone whispers a compelling story. \nThe tour duration is 1 hour 30mins and mostly follows paved surfaces but there are some areas of unevenness. \nEach tour is $10 per person (plus non-refundable booking fee). Children under 12 are free. \nTo book your ticket\, please visit our ticketing website: \nhttps://events.humanitix.com/friends-of-karori-cemetery-accidentally-killed-tour-june-2025 \nOur tour has a maximum capacity of about 15 persons. If there are insufficient tickets remaining for your party\, please email us at info@friendsofkaroricemetery.co.nz to check if we can accommodate you. \nNote:\nIf we have to cancel a tour due to inclement weather or sickness\, we will notify you on the day by 9am by email and on our Facebook page. The booking fee is non-refundable. \nPlease dress appropriately for the conditions. While we do our best to guide you on a safe walking route\, during the winter months the ground can become slippery in places. \nSome of our walks require a moderate degree of fitness and are not suited for those with limited mobility. Please read the tour descriptions carefully to check that they will be suitable for you. \nWe look forward to welcoming you to Karori Cemetery.
URL:https://friendsofkaroricemetery.co.nz/event/accidentally-killed-tour/
LOCATION:Karori Cemetery\, The Shelter\, Karori Cemetery\, 76 Old Karori Road\, Wellington\, New Zealand
ATTACH;FMTTYPE=image/jpeg:https://friendsofkaroricemetery.co.nz/wp-content/uploads/2025/04/Accidentally-Killed.jpg
END:VEVENT
BEGIN:VEVENT
DTSTART;TZID=UTC:20250706T123000
DTEND;TZID=UTC:20250706T140000
DTSTAMP:20260424T054338
CREATED:20250518T041135Z
LAST-MODIFIED:20250518T041135Z
UID:2672-1751805000-1751810400@friendsofkaroricemetery.co.nz
SUMMARY:Military Tales from the Services Section Tour
DESCRIPTION:Come and hear tales from our military history. \nThe tour duration is 1 hour 30mins. The tour mostly follows paved surfaces but there are some areas of unevenness. \nOur tour has a maximum capacity of about 15 persons. If there are insufficient tickets remaining for your party\, please email us at info@friendsofkaroricemetery.co.nz to check if we can accommodate you. \nTickets cost $10 per person\, children under 12 years are free. To book your ticket please visit our ticketing website Humanitix: \nhttps://events.humanitix.com/friends-of-karori-cemetery-military-tales-from-the-services-section-july-2025 \nNote:\nIf we have to cancel a tour due to inclement weather or sickness\, we will notify you on the day 1 hour before the tour starts by email and on our Facebook page. \nPlease dress appropriately for the conditions. While we do our best to guide you on a safe walking route\, during the winter months the ground can become slippery in places. \nSome of our walks require a moderate degree of fitness and are not suited for those with limited mobility. Please read the tour descriptions carefully to check that they will be suitable for you. \nWe look forward to welcoming you to Karori Cemetery.
URL:https://friendsofkaroricemetery.co.nz/event/military-tales-from-the-services-section-tour/
LOCATION:Karori Cemetery\, The Shelter\, Karori Cemetery\, 76 Old Karori Road\, Wellington\, New Zealand
CATEGORIES:Tours
ATTACH;FMTTYPE=image/jpeg:https://friendsofkaroricemetery.co.nz/wp-content/uploads/2020/05/IMG_2399.jpg
END:VEVENT
END:VCALENDAR