BEGIN:VCALENDAR
VERSION:2.0
PRODID:-// - ECPv6.15.20//NONSGML v1.0//EN
CALSCALE:GREGORIAN
METHOD:PUBLISH
X-ORIGINAL-URL:https://friendsofkaroricemetery.co.nz
X-WR-CALDESC:Events for 
REFRESH-INTERVAL;VALUE=DURATION:PT1H
X-Robots-Tag:noindex
X-PUBLISHED-TTL:PT1H
BEGIN:VTIMEZONE
TZID:UTC
BEGIN:STANDARD
TZOFFSETFROM:+0000
TZOFFSETTO:+0000
TZNAME:UTC
DTSTART:20230101T000000
END:STANDARD
END:VTIMEZONE
BEGIN:VEVENT
DTSTART;TZID=UTC:20240906T200000
DTEND;TZID=UTC:20240906T214500
DTSTAMP:20260424T205922
CREATED:20240709T061620Z
LAST-MODIFIED:20240820T185245Z
UID:2094-1725652800-1725659100@friendsofkaroricemetery.co.nz
SUMMARY:Evening Tour - SOLD OUT
DESCRIPTION:Apologies but this tour has now sold out. \nWould you like to join us and explore the beauty of Karori Cemetery in the evening? \nThis tour is for anyone who would like to see the Cemetery through a different lens\, as the landscape settles in from dusk to darkness. On this walk you’ll be accompanied by two guides who will take you on a wander through some of the most magical parts of the cemetery\, with a story or two of early Wellingtonians along the route. We might even spy a Ruru/Morepork or two! The tour does not have any scary themes. There are points on the tour where we may pause and turn off our torches to enjoy the landscape in the darkness. \nThe tour is of approximately 1.5 – 1.75 hours duration and starts and finishes at the Main Chapel on Rosehaugh Avenue\, where there is plenty of easy parking. \nEach attendee needs to bring their own torch that they can comfortably carry for the duration. No head torches please for the comfort of your fellow walkers. \nThe route mostly follows paved surfaces but there are some areas of unevenness. Surefootedness is required. This tour involves approximately 2km of walking\, with some slow paced but uphill stints. \nThe tour is not suited for children under the age of 12 or unaccompanied minors. There are no toilets on the route. \nEach tour is $10 per person (plus non-refundable booking fee). To book your ticket\, please visit our ticketing website: \nhttps://events.humanitix.com/friends-of-karori-cemetery-evening-tour-3xlm5nuu \nOur tour has a maximum capacity of about 15 persons. If there are insufficient tickets remaining for your party\, please email us at info@friendsofkaroricemetery.co.nz to check if we can accommodate you. \nNote:\nIf we have to cancel a tour due to inclement weather or sickness\, we will notify you on the day by 9am by email and on our Facebook page. The booking fee is non-refundable. \nPlease dress appropriately for the conditions. While we do our best to guide you on a safe walking route\, during the winter months the ground can become slippery in places. \nSome of our walks require a moderate degree of fitness and are not suited for those with limited mobility. Please read the tour descriptions carefully to check that they will be suitable for you.
URL:https://friendsofkaroricemetery.co.nz/event/evening-tour-8/
LOCATION:Main Chapel\, Karori Cemetery\, 15 Rosehaugh Avenue\, Karori\, Wellington\, New Zealand
ATTACH;FMTTYPE=image/jpeg:https://friendsofkaroricemetery.co.nz/wp-content/uploads/2023/06/Turnbull-Plots.jpg
END:VEVENT
BEGIN:VEVENT
DTSTART;TZID=UTC:20240908T103000
DTEND;TZID=UTC:20240908T120000
DTSTAMP:20260424T205922
CREATED:20240709T062022Z
LAST-MODIFIED:20240709T062022Z
UID:2099-1725791400-1725796800@friendsofkaroricemetery.co.nz
SUMMARY:Hangman's Noose Tour
DESCRIPTION:In total\, 85 people have been executed for crime in New Zealand with the first in 1842 and the last in 1957. Seventeen of those men were executed in Wellington and 11 are buried in Karori Cemetery.  This walking tour will visit some of their graves to account their crimes\, trials and convictions. It will also visit the plots of some of the victims. \nThe graves are unmarked and placed in remote and disparate locations making this a tour about 2 hours long. The route is 2.5km and requires reasonable physical fitness due to the steep terrain and unsealed paths in places. \nThe tour contains a number of adult themes and some graphic descriptions and so is not suitable for everyone. \nEach tour is $10 per person (plus non-refundable booking fee). Children under 12 are free. \nTo book your ticket\, please visit our ticketing website: \nhttps://events.humanitix.com/friends-of-karori-cemetery-hangman-s-noose-tour-sept-2024 \nOur tour has a maximum capacity of about 15 persons. If there are insufficient tickets remaining for your party\, please email us at info@friendsofkaroricemetery.co.nz to check if we can accommodate you. \nPlease note: \n\nThis tour requires reasonable physical fitness and sadly is not suited for those with limited mobility.\nIf we have to cancel a tour due to inclement weather or sickness\, we will notify you on the day by 9am by email and on our Facebook page. The booking fee is non-refundable.\nPlease dress appropriately for the conditions. While we do our best to guide you on a safe walking route\, during the winter months the ground can become slippery in places.\n\nWe look forward to welcoming you to Karori Cemetery.
URL:https://friendsofkaroricemetery.co.nz/event/hangmans-noose-tour-3/
LOCATION:Karori Cemetery\, The Shelter\, Karori Cemetery\, 76 Old Karori Road\, Wellington\, New Zealand
ATTACH;FMTTYPE=image/jpeg:https://friendsofkaroricemetery.co.nz/wp-content/uploads/2022/11/IMG_6213-edited.jpg
END:VEVENT
BEGIN:VEVENT
DTSTART;TZID=UTC:20240908T130000
DTEND;TZID=UTC:20240908T143000
DTSTAMP:20260424T205922
CREATED:20240709T061814Z
LAST-MODIFIED:20240904T072158Z
UID:2096-1725800400-1725805800@friendsofkaroricemetery.co.nz
SUMMARY:Murder & Mayhem Tour - SOLD OUT
DESCRIPTION:Apologies but this tour is now sold out. \nKarori Cemetery is the final resting place for people whose lives ended tragically – from drowning\, from murder\, and from accidents of all kinds. This tour includes the story of three militia men killed in a guncotton explosion; an attempted murder followed by suicide; a drowning or two plus other exciting stories. \nEach tour is $10 per person (plus non-refundable booking fee). Children under 12 are free. \nTo book your ticket\, please visit our ticketing website Humanitix: \nhttps://events.humanitix.com/friends-of-karori-cemetery-murder-and-mayhem-tour-sept-2024 \nOur tour has a maximum capacity of about 15 persons. If there are insufficient tickets remaining for your party\, please email us at info@friendsofkaroricemetery.co.nz to check if we can accommodate you. \nNote:\nIf we have to cancel a tour due to inclement weather or sickness\, we will notify you on the day by 9am by email and on our Facebook page. The booking fee is non-refundable. \nPlease dress appropriately for the conditions. While we do our best to guide you on a safe walking route\, during the winter months the ground can become slippery in places. \nSome of our walks require a moderate degree of fitness and are not suited for those with limited mobility. Please read the tour descriptions carefully to check that they will be suitable for you. \nWe look forward to welcoming you to Karori Cemetery.
URL:https://friendsofkaroricemetery.co.nz/event/murder-mayhem-tour-13/
LOCATION:Karori Cemetery\, The Shelter\, Karori Cemetery\, 76 Old Karori Road\, Wellington\, New Zealand
ATTACH;FMTTYPE=image/jpeg:https://friendsofkaroricemetery.co.nz/wp-content/uploads/2023/06/Tour-Photo-Public-West-scaled.jpg
END:VEVENT
END:VCALENDAR