BEGIN:VCALENDAR
VERSION:2.0
PRODID:-// - ECPv6.15.20//NONSGML v1.0//EN
CALSCALE:GREGORIAN
METHOD:PUBLISH
X-ORIGINAL-URL:https://friendsofkaroricemetery.co.nz
X-WR-CALDESC:Events for 
REFRESH-INTERVAL;VALUE=DURATION:PT1H
X-Robots-Tag:noindex
X-PUBLISHED-TTL:PT1H
BEGIN:VTIMEZONE
TZID:UTC
BEGIN:STANDARD
TZOFFSETFROM:+0000
TZOFFSETTO:+0000
TZNAME:UTC
DTSTART:20210101T000000
END:STANDARD
END:VTIMEZONE
BEGIN:VEVENT
DTSTART;TZID=UTC:20220606T133000
DTEND;TZID=UTC:20220606T151500
DTSTAMP:20260424T125406
CREATED:20220527T025356Z
LAST-MODIFIED:20220603T070844Z
UID:1088-1654522200-1654528500@friendsofkaroricemetery.co.nz
SUMMARY:Tales From the Vaults Tour - SOLD OUT
DESCRIPTION:Apologies but this tour has now SOLD OUT. Follow us on Facebook to hear about out next tours. \n  \nFind out who is in and who is out of some of the cemetery’s most substantial dwellings. Note: tours do not enter vaults or try them out for size. Suitable for people with moderate fitness.  \n$10 per person (children under 12 free)\, places must be booked by emailing friendsofkaroricemeterytours@gmail.com
URL:https://friendsofkaroricemetery.co.nz/event/tales-from-the-vaults-tour/
LOCATION:Karori Cemetery\, The Shelter\, Karori Cemetery\, 76 Old Karori Road\, Wellington\, New Zealand
CATEGORIES:Tours
ATTACH;FMTTYPE=image/jpeg:https://friendsofkaroricemetery.co.nz/wp-content/uploads/2020/05/IMG_2419.jpg
END:VEVENT
BEGIN:VEVENT
DTSTART;TZID=UTC:20220606T120000
DTEND;TZID=UTC:20220606T150000
DTSTAMP:20260424T125406
CREATED:20220527T234117Z
LAST-MODIFIED:20220527T234845Z
UID:1116-1654516800-1654527600@friendsofkaroricemetery.co.nz
SUMMARY:Grave Finding Assistance
DESCRIPTION:Need some help with finding a plot at Karori Cemetery? Feel free to drop by The Shelter between 12pm and 3pm\, and one of our committee members will assist you.
URL:https://friendsofkaroricemetery.co.nz/event/grave-finding-assistance-2/
LOCATION:Karori Cemetery\, The Shelter\, Karori Cemetery\, 76 Old Karori Road\, Wellington\, New Zealand
CATEGORIES:Grave Finding
ATTACH;FMTTYPE=image/jpeg:https://friendsofkaroricemetery.co.nz/wp-content/uploads/2020/05/TGBU2261-black-and-white.jpg
END:VEVENT
BEGIN:VEVENT
DTSTART;TZID=UTC:20220606T103000
DTEND;TZID=UTC:20220606T120000
DTSTAMP:20260424T125406
CREATED:20220527T024742Z
LAST-MODIFIED:20220531T072640Z
UID:1085-1654511400-1654516800@friendsofkaroricemetery.co.nz
SUMMARY:Murder & Mayhem Tour
DESCRIPTION:Karori Cemetery is the final resting place for people whose lives ended tragically – from drowning\, from murder\, and from accidents of all kinds. This tour includes the story of three militia men killed in a guncotton explosion; a man who murdered his two small children; an attempted murder followed by suicide; a drowning or two; a man sentenced to be hanged but released from jail 8 years later; shipwreck victims\, accidental deaths\, and many more. \nTours are $10 per person (children under 12 free)\, places must be booked via email friendsofkaroricemeterytours@gmail.com
URL:https://friendsofkaroricemetery.co.nz/event/murder-mayhem-tour/
LOCATION:Karori Cemetery\, The Shelter\, Karori Cemetery\, 76 Old Karori Road\, Wellington\, New Zealand
CATEGORIES:Tours
ATTACH;FMTTYPE=image/jpeg:https://friendsofkaroricemetery.co.nz/wp-content/uploads/2021/07/IMG_6306-scaled-e1625209067382.jpg
END:VEVENT
BEGIN:VEVENT
DTSTART;TZID=UTC:20220605T133000
DTEND;TZID=UTC:20220605T150000
DTSTAMP:20260424T125406
CREATED:20220527T024439Z
LAST-MODIFIED:20220603T070907Z
UID:1082-1654435800-1654441200@friendsofkaroricemetery.co.nz
SUMMARY:Off the Beaten Track Tour - SOLD OUT
DESCRIPTION:Apologies but this tour has now SOLD OUT. Follow us on Facebook to hear about out next tours. \nStretch your legs on this tour. Off the Beaten Track takes you off the main road\, exploring a bit further into the older sections of Karori Cemetery. We walk up and down the hills\, through the gully’s and alongside the creek to discover some interesting characters and some of the history of the cemetery as well. Stories of professional stage magicians\, murders & murder victims\, soldiers\, skylarkers\, movies and gum trees are recounted. \nThis tour requires moderate fitness and is not suitable for anyone with limited mobility. \nTours are $10 per person (children under 12 free)\, places must be booked via email friendsofkaroricemeterytours@gmail.com
URL:https://friendsofkaroricemetery.co.nz/event/off-the-beaten-track/
LOCATION:Karori Cemetery\, The Shelter\, Karori Cemetery\, 76 Old Karori Road\, Wellington\, New Zealand
CATEGORIES:Tours
ATTACH;FMTTYPE=image/jpeg:https://friendsofkaroricemetery.co.nz/wp-content/uploads/2020/11/UCVZ5545.jpg
END:VEVENT
BEGIN:VEVENT
DTSTART;TZID=UTC:20220605T120000
DTEND;TZID=UTC:20220605T150000
DTSTAMP:20260424T125406
CREATED:20220527T233938Z
LAST-MODIFIED:20220527T235017Z
UID:1114-1654430400-1654441200@friendsofkaroricemetery.co.nz
SUMMARY:Grave Finding Assistance
DESCRIPTION:Need some help with finding a plot at Karori Cemetery? Feel free to drop by The Shelter between 12pm and 3pm\, and one of our committee members will assist you.
URL:https://friendsofkaroricemetery.co.nz/event/grave-finding-assistance/
LOCATION:Karori Cemetery\, The Shelter\, Karori Cemetery\, 76 Old Karori Road\, Wellington\, New Zealand
CATEGORIES:Grave Finding
ATTACH;FMTTYPE=image/jpeg:https://friendsofkaroricemetery.co.nz/wp-content/uploads/2020/05/TGBU2261-black-and-white.jpg
END:VEVENT
END:VCALENDAR