BEGIN:VCALENDAR
VERSION:2.0
PRODID:-// - ECPv6.15.20//NONSGML v1.0//EN
CALSCALE:GREGORIAN
METHOD:PUBLISH
X-ORIGINAL-URL:https://friendsofkaroricemetery.co.nz
X-WR-CALDESC:Events for 
REFRESH-INTERVAL;VALUE=DURATION:PT1H
X-Robots-Tag:noindex
X-PUBLISHED-TTL:PT1H
BEGIN:VTIMEZONE
TZID:UTC
BEGIN:STANDARD
TZOFFSETFROM:+0000
TZOFFSETTO:+0000
TZNAME:UTC
DTSTART:20210101T000000
END:STANDARD
END:VTIMEZONE
BEGIN:VEVENT
DTSTART;TZID=UTC:20221106T113000
DTEND;TZID=UTC:20221106T143000
DTSTAMP:20260424T113308
CREATED:20220919T060306Z
LAST-MODIFIED:20220919T060306Z
UID:1276-1667734200-1667745000@friendsofkaroricemetery.co.nz
SUMMARY:Small Chapel Open Day
DESCRIPTION:Small Chapel Open Day. Built in 1909\, the Small Chapel is a hidden heritage gem. \nWith brass plaques\, glowing timber panelling\, and a set of very special stained glass windows the Small Chapel is a place for quiet reflection. Information about the chapel will be available for visitors. \nNo booking required. \nLocation: Small Chapel\, Karori Cemetery\, 79 Old Karori Road\, Karori \nDuration: 11:30am-2:30pm \nCost: Free
URL:https://friendsofkaroricemetery.co.nz/event/small-chapel-open-day/
LOCATION:Karori Cemetery\, The Shelter\, Karori Cemetery\, 76 Old Karori Road\, Wellington\, New Zealand
CATEGORIES:Small Chapel Open Day
ATTACH;FMTTYPE=image/jpeg:https://friendsofkaroricemetery.co.nz/wp-content/uploads/2020/11/126355538_3499154040172842_2788847051981739184_o.jpg
END:VEVENT
END:VCALENDAR