BEGIN:VCALENDAR
VERSION:2.0
PRODID:-// - ECPv6.15.20//NONSGML v1.0//EN
CALSCALE:GREGORIAN
METHOD:PUBLISH
X-ORIGINAL-URL:https://friendsofkaroricemetery.co.nz
X-WR-CALDESC:Events for 
REFRESH-INTERVAL;VALUE=DURATION:PT1H
X-Robots-Tag:noindex
X-PUBLISHED-TTL:PT1H
BEGIN:VTIMEZONE
TZID:UTC
BEGIN:STANDARD
TZOFFSETFROM:+0000
TZOFFSETTO:+0000
TZNAME:UTC
DTSTART:20210101T000000
END:STANDARD
END:VTIMEZONE
BEGIN:VEVENT
DTSTART;TZID=UTC:20221105T123000
DTEND;TZID=UTC:20221105T150000
DTSTAMP:20260424T130158
CREATED:20220919T055957Z
LAST-MODIFIED:20220919T055957Z
UID:1268-1667651400-1667660400@friendsofkaroricemetery.co.nz
SUMMARY:Grave Finding
DESCRIPTION:Grave Finding. Our team will be available to assist you with locating your family plot(s). \nIf you have multiple plots to find\, please submit your list to friendskaroricemetery@gmail.com in advance. \nFor advice on starting your search\, refer to our website: https://friendsofkaroricemetery.co.nz/grave-finding/
URL:https://friendsofkaroricemetery.co.nz/event/grave-finding/
LOCATION:Karori Cemetery\, The Shelter\, Karori Cemetery\, 76 Old Karori Road\, Wellington\, New Zealand
CATEGORIES:Grave Finding
ATTACH;FMTTYPE=image/jpeg:https://friendsofkaroricemetery.co.nz/wp-content/uploads/2022/05/GG-Angel.jpg
END:VEVENT
BEGIN:VEVENT
DTSTART;TZID=UTC:20221027T123000
DTEND;TZID=UTC:20221027T150000
DTSTAMP:20260424T130158
CREATED:20220919T060021Z
LAST-MODIFIED:20220919T060021Z
UID:1266-1666873800-1666882800@friendsofkaroricemetery.co.nz
SUMMARY:Grave Finding
DESCRIPTION:Grave Finding. Our team will be available to assist you with locating your family plot(s). \nIf you have multiple plots to find\, please submit your list to friendskaroricemetery@gmail.com in advance. \nFor advice on starting your search\, refer to our website: https://friendsofkaroricemetery.co.nz/grave-finding/
URL:https://friendsofkaroricemetery.co.nz/event/grave-finding-2/
LOCATION:Karori Cemetery\, The Shelter\, Karori Cemetery\, 76 Old Karori Road\, Wellington\, New Zealand
CATEGORIES:Grave Finding
ATTACH;FMTTYPE=image/jpeg:https://friendsofkaroricemetery.co.nz/wp-content/uploads/2022/09/IMG_1775-scaled.jpg
END:VEVENT
BEGIN:VEVENT
DTSTART;TZID=UTC:20221002T120000
DTEND;TZID=UTC:20221002T150000
DTSTAMP:20260424T130158
CREATED:20220913T082935Z
LAST-MODIFIED:20220913T082935Z
UID:1242-1664712000-1664722800@friendsofkaroricemetery.co.nz
SUMMARY:Grave Finding Assistance
DESCRIPTION:Need some help with finding a plot at Karori Cemetery? Feel free to drop by The Shelter between 12pm and 3pm\, and one of our committee members will assist you.
URL:https://friendsofkaroricemetery.co.nz/event/grave-finding-assistance-5/
LOCATION:Karori Cemetery\, The Shelter\, Karori Cemetery\, 76 Old Karori Road\, Wellington\, New Zealand
CATEGORIES:Grave Finding
END:VEVENT
BEGIN:VEVENT
DTSTART;TZID=UTC:20220904T120000
DTEND;TZID=UTC:20220904T150000
DTSTAMP:20260424T130158
CREATED:20220814T080000Z
LAST-MODIFIED:20220902T052310Z
UID:1154-1662292800-1662303600@friendsofkaroricemetery.co.nz
SUMMARY:Grave Finding Assistance - CANCELLED
DESCRIPTION:CANCELLED – unfortunately the ground conditions have not dried out sufficiently to run our tours safely\, and so we will not be at The Shelter to assist with grave finding this weekend. Please email us or message us through Facebook if you need assistance in the meantime. We love to help. \nNeed some help with finding a plot at Karori Cemetery? Feel free to drop by The Shelter between 12pm and 3pm\, and one of our committee members will assist you.
URL:https://friendsofkaroricemetery.co.nz/event/grave-finding-assistance-4/
LOCATION:Karori Cemetery\, The Shelter\, Karori Cemetery\, 76 Old Karori Road\, Wellington\, New Zealand
CATEGORIES:Grave Finding
END:VEVENT
BEGIN:VEVENT
DTSTART;TZID=UTC:20220606T120000
DTEND;TZID=UTC:20220606T150000
DTSTAMP:20260424T130158
CREATED:20220527T234117Z
LAST-MODIFIED:20220527T234845Z
UID:1116-1654516800-1654527600@friendsofkaroricemetery.co.nz
SUMMARY:Grave Finding Assistance
DESCRIPTION:Need some help with finding a plot at Karori Cemetery? Feel free to drop by The Shelter between 12pm and 3pm\, and one of our committee members will assist you.
URL:https://friendsofkaroricemetery.co.nz/event/grave-finding-assistance-2/
LOCATION:Karori Cemetery\, The Shelter\, Karori Cemetery\, 76 Old Karori Road\, Wellington\, New Zealand
CATEGORIES:Grave Finding
ATTACH;FMTTYPE=image/jpeg:https://friendsofkaroricemetery.co.nz/wp-content/uploads/2020/05/TGBU2261-black-and-white.jpg
END:VEVENT
BEGIN:VEVENT
DTSTART;TZID=UTC:20220605T120000
DTEND;TZID=UTC:20220605T150000
DTSTAMP:20260424T130158
CREATED:20220527T233938Z
LAST-MODIFIED:20220527T235017Z
UID:1114-1654430400-1654441200@friendsofkaroricemetery.co.nz
SUMMARY:Grave Finding Assistance
DESCRIPTION:Need some help with finding a plot at Karori Cemetery? Feel free to drop by The Shelter between 12pm and 3pm\, and one of our committee members will assist you.
URL:https://friendsofkaroricemetery.co.nz/event/grave-finding-assistance/
LOCATION:Karori Cemetery\, The Shelter\, Karori Cemetery\, 76 Old Karori Road\, Wellington\, New Zealand
CATEGORIES:Grave Finding
ATTACH;FMTTYPE=image/jpeg:https://friendsofkaroricemetery.co.nz/wp-content/uploads/2020/05/TGBU2261-black-and-white.jpg
END:VEVENT
END:VCALENDAR