BEGIN:VCALENDAR
VERSION:2.0
PRODID:-// - ECPv6.15.20//NONSGML v1.0//EN
CALSCALE:GREGORIAN
METHOD:PUBLISH
X-ORIGINAL-URL:https://friendsofkaroricemetery.co.nz
X-WR-CALDESC:Events for 
REFRESH-INTERVAL;VALUE=DURATION:PT1H
X-Robots-Tag:noindex
X-PUBLISHED-TTL:PT1H
BEGIN:VTIMEZONE
TZID:UTC
BEGIN:STANDARD
TZOFFSETFROM:+0000
TZOFFSETTO:+0000
TZNAME:UTC
DTSTART:20250101T000000
END:STANDARD
END:VTIMEZONE
BEGIN:VEVENT
DTSTART;TZID=UTC:20260705T100000
DTEND;TZID=UTC:20260705T113000
DTSTAMP:20260423T204330
CREATED:20260323T172457Z
LAST-MODIFIED:20260323T172457Z
UID:3257-1783245600-1783251000@friendsofkaroricemetery.co.nz
SUMMARY:More Catholic Tales Tour
DESCRIPTION:Hear about a poet\, a writer\, soldiers and stories of Wellington history. Further Catholic Tales tells the stories of the wide range of people interred in the section known as Catholic 2. \nThe tour duration is 1 hour 30mins. The tour mostly follows paved surfaces but there are some areas of unevenness. \nTo book your ticket\, please visit our ticketing website Humanitix: \nhttps://events.humanitix.com/friends-of-karori-cemetery-more-catholic-tales-july-2026 \nEach tour is $10 per person (plus non-refundable booking fee). Children under 12 are free. \nOur tour has a maximum capacity of about 15 persons. If there are insufficient tickets remaining for your party\, please email us at info@friendsofkaroricemetery.co.nz to check if we can accommodate you. \nNote:\nIf we have to cancel a tour due to inclement weather or sickness\, we will notify you on the day by 9am by email and on our Facebook page. The booking fee is non-refundable. \nPlease dress appropriately for the conditions. While we do our best to guide you on a safe walking route\, during the winter months the ground can become slippery in places. \nSome of our walks require a moderate degree of fitness and are not suited for those with limited mobility. Please read the tour descriptions carefully to check that they will be suitable for you. \nWe look forward to welcoming you to Karori Cemetery.
URL:https://friendsofkaroricemetery.co.nz/event/more-catholic-tales-tour-3/
LOCATION:Karori Cemetery\, The Shelter\, Karori Cemetery\, 76 Old Karori Road\, Wellington\, New Zealand
ATTACH;FMTTYPE=image/jpeg:https://friendsofkaroricemetery.co.nz/wp-content/uploads/2022/12/IMG_4485-rotated.jpg
END:VEVENT
BEGIN:VEVENT
DTSTART;TZID=UTC:20260705T130000
DTEND;TZID=UTC:20260705T143000
DTSTAMP:20260423T204330
CREATED:20260323T173131Z
LAST-MODIFIED:20260323T173131Z
UID:3262-1783256400-1783261800@friendsofkaroricemetery.co.nz
SUMMARY:Treasures From the Gully Tour
DESCRIPTION:Tour through a very atmospheric part of the cemetery\, with an eclectic mix of stories on an artist\, photographer\, hat manufacturer\, prison reformer and many more! Come and enjoy the beauty of one of the most mystical places in the Cemetery with entertaining stories along the way. \nThe tour will mostly keep to pathways but some areas are potentially uneven underfoot. A moderate level of fitness is required. \nEach tour is $10 per person (plus non-refundable booking fee). Children under 12 are free. \nHow to Book: \nWe now operate online ticketing. To book please follow the link: \nhttps://events.humanitix.com/friends-of-karori-cemetery-treasures-from-the-gully-july-2026 \nOur tour has a maximum capacity of about 15 persons. If there are insufficient tickets remaining for your party\, please email us on info@friendsofkaroricemetery.co.nz to check if we can accommodate you. \nNote:\nIf we have to cancel a tour due to inclement weather or sickness\, we will notify you on the day by 9am by email and on our Facebook page. The booking fee is non-refundable. \nPlease dress appropriately for the conditions. While we do our best to guide you on a safe walking route\, during the winter months the ground can become slippery in places. \nSome of our walks require a moderate degree of fitness and are not suited for those with limited mobility. Please read the tour descriptions carefully to check that they will be suitable for you. \nWe look forward to welcoming you to Karori Cemetery.
URL:https://friendsofkaroricemetery.co.nz/event/treasures-from-the-gully-tour-4/
LOCATION:Karori Cemetery\, The Shelter\, Karori Cemetery\, 76 Old Karori Road\, Wellington\, New Zealand
ATTACH;FMTTYPE=image/jpeg:https://friendsofkaroricemetery.co.nz/wp-content/uploads/2021/12/IMG_7130-rotated.jpg
END:VEVENT
END:VCALENDAR