BEGIN:VCALENDAR
VERSION:2.0
PRODID:-// - ECPv6.15.20//NONSGML v1.0//EN
CALSCALE:GREGORIAN
METHOD:PUBLISH
X-ORIGINAL-URL:https://friendsofkaroricemetery.co.nz
X-WR-CALDESC:Events for 
REFRESH-INTERVAL;VALUE=DURATION:PT1H
X-Robots-Tag:noindex
X-PUBLISHED-TTL:PT1H
BEGIN:VTIMEZONE
TZID:UTC
BEGIN:STANDARD
TZOFFSETFROM:+0000
TZOFFSETTO:+0000
TZNAME:UTC
DTSTART:20250101T000000
END:STANDARD
END:VTIMEZONE
BEGIN:VEVENT
DTSTART;TZID=UTC:20260301T103000
DTEND;TZID=UTC:20260301T123000
DTSTAMP:20260423T185241
CREATED:20251223T204832Z
LAST-MODIFIED:20251223T204832Z
UID:3046-1772361000-1772368200@friendsofkaroricemetery.co.nz
SUMMARY:Off the Beaten Track Tour
DESCRIPTION:Stretch your legs on this tour! Off the Beaten Track takes you off the main road\, exploring a bit further into the older sections of Karori Cemetery. We walk up and down the hills\, through the gullies and alongside the creek to discover some interesting characters and some of the history of the cemetery as well. \nEach tour is $10 per person (plus non-refundable booking fee). Children under 12 are free. \nTo book your ticket\, please visit our ticketing website: \nhttps://events.humanitix.com/friends-of-karori-cemetery-off-the-beaten-track-tour-march-2026 \nOur tour has a maximum capacity of about 15 persons. If there are insufficient tickets remaining for your party\, please email us at info@friendsofkaroricemetery.co.nz to check if we can accommodate you. \nPlease note: \nIf we have to cancel a tour due to inclement weather or sickness\, we will notify you on the day 1 hour before the tour starts by email and on our Facebook page. The booking fee is non-refundable. \nThis tour is approximately 2 hours long. \nPlease dress appropriately for the conditions. While we do our best to guide you on a safe walking route\, during the winter months the ground can become slippery in places. \nSome of our walks require a moderate degree of fitness and are not suited for those with limited mobility. \nThere is only one toilet which is located by the cemetery office at the main entrance. \nIf you have purchased tickets for other people can you please pass our tour information on to them as well. \nPlease meet us at the shelter (shown as the Historic Chapel on the map at the main entrance)
URL:https://friendsofkaroricemetery.co.nz/event/off-the-beaten-track-tour-8/
CATEGORIES:Tours
ATTACH;FMTTYPE=image/jpeg:https://friendsofkaroricemetery.co.nz/wp-content/uploads/2020/11/UCVZ5545.jpg
END:VEVENT
BEGIN:VEVENT
DTSTART;TZID=UTC:20260301T130000
DTEND;TZID=UTC:20260301T150000
DTSTAMP:20260423T185241
CREATED:20251223T204507Z
LAST-MODIFIED:20251223T204507Z
UID:3044-1772370000-1772377200@friendsofkaroricemetery.co.nz
SUMMARY:Hangman's Noose Tour
DESCRIPTION:In total\, 85 people have been executed for crime in New Zealand with the first in 1842 and the last in 1957. Seventeen of those men were executed in Wellington and 11 are buried in Karori Cemetery.  This walking tour will visit some of their graves to account their crimes\, trials and convictions. It will also visit the plots of some of the victims. \nThe graves are unmarked and placed in remote and disparate locations making this a tour about 2.5 hours long. The route is 2.5km and requires reasonable physical fitness due to the steep terrain and unsealed paths in places. \nThe tour contains a number of adult themes and some graphic descriptions and so is not suitable for everyone. \nEach tour is $10 per person (plus non-refundable booking fee). Children under 12 are free. To book your ticket\, please visit our ticketing website: \nhttps://events.humanitix.com/friends-of-karori-cemetery-hangman-s-noose-tour-march-2026 \nOur tour has a maximum capacity of about 15 persons. If there are insufficient tickets remaining for your party\, please email us at info@friendsofkaroricemetery.co.nz to check if we can accommodate you. \nPlease note: \nIf we have to cancel a tour due to inclement weather or sickness\, we will notify you on the day 1 hour before the tour starts by email and on our Facebook page. The booking fee is non-refundable. \nPlease dress appropriately for the conditions. While we do our best to guide you on a safe walking route\, the ground can become slippery in places. \nSome of our walks require a moderate degree of fitness and are not suited for those with limited mobility. \nThere is only one toilet which is located by the cemetery office at the main entrance. \nIf you have purchased tickets for other people can you please pass our tour information on to them as well. \nPlease meet us at the shelter (shown as the Historic Chapel on the map at the main entrance)
URL:https://friendsofkaroricemetery.co.nz/event/hangmans-noose-tour-7/
CATEGORIES:Tours
ATTACH;FMTTYPE=image/jpeg:https://friendsofkaroricemetery.co.nz/wp-content/uploads/2025/01/Noose-2-edited-reduced.jpg
END:VEVENT
END:VCALENDAR