BEGIN:VCALENDAR
VERSION:2.0
PRODID:-// - ECPv6.15.20//NONSGML v1.0//EN
CALSCALE:GREGORIAN
METHOD:PUBLISH
X-ORIGINAL-URL:https://friendsofkaroricemetery.co.nz
X-WR-CALDESC:Events for 
REFRESH-INTERVAL;VALUE=DURATION:PT1H
X-Robots-Tag:noindex
X-PUBLISHED-TTL:PT1H
BEGIN:VTIMEZONE
TZID:UTC
BEGIN:STANDARD
TZOFFSETFROM:+0000
TZOFFSETTO:+0000
TZNAME:UTC
DTSTART:20250101T000000
END:STANDARD
END:VTIMEZONE
BEGIN:VEVENT
DTSTART;TZID=UTC:20260201T100000
DTEND;TZID=UTC:20260201T110000
DTSTAMP:20260423T202659
CREATED:20251223T210259Z
LAST-MODIFIED:20251223T210259Z
UID:3051-1769940000-1769943600@friendsofkaroricemetery.co.nz
SUMMARY:Introductory Tour
DESCRIPTION:This tour outlines the development of Karori Cemetery since the first burial in August 1891\, traversing the earliest burial areas which contain many interesting memorials and monuments. \nEach tour is $10 per person (plus non-refundable booking fee). Children under 12 are free. \nTo purchase your ticket\, please visit our ticketing website: \nhttps://events.humanitix.com/friends-of-karori-cemetery-introductory-tour-feb-2026 \nOur tour has a maximum capacity of about 15 persons. If there are insufficient tickets remaining for your party\, please email us at info@friendsofkaroricemetery.co.nz to check if we can accommodate you. \nPlease note: \nIf we have to cancel a tour due to inclement weather or sickness\, we will notify you on the day 1 hour before the tour starts by email and on our Facebook page. The booking fee is non-refundable. \nThis tour is approximately one hour long. \nPlease dress appropriately for the conditions. While we do our best to guide you on a safe walking route\, during the winter months the ground can become slippery in places. \nSome of our walks require a moderate degree of fitness and are not suited for those with limited mobility. \nThere is only one toilet which is located by the cemetery office at the main entrance. \nIf you have purchased tickets for other people can you please pass our tour information on to them as well. \nPlease meet us at the shelter (shown as the Historic Chapel on the map at the main entrance)
URL:https://friendsofkaroricemetery.co.nz/event/introductory-tour/
CATEGORIES:Tours
ATTACH;FMTTYPE=image/jpeg:https://friendsofkaroricemetery.co.nz/wp-content/uploads/2022/05/Public.jpg
END:VEVENT
END:VCALENDAR