BEGIN:VCALENDAR
VERSION:2.0
PRODID:-// - ECPv6.15.20//NONSGML v1.0//EN
CALSCALE:GREGORIAN
METHOD:PUBLISH
X-ORIGINAL-URL:https://friendsofkaroricemetery.co.nz
X-WR-CALDESC:Events for 
REFRESH-INTERVAL;VALUE=DURATION:PT1H
X-Robots-Tag:noindex
X-PUBLISHED-TTL:PT1H
BEGIN:VTIMEZONE
TZID:UTC
BEGIN:STANDARD
TZOFFSETFROM:+0000
TZOFFSETTO:+0000
TZNAME:UTC
DTSTART:20250101T000000
END:STANDARD
END:VTIMEZONE
BEGIN:VEVENT
DTSTART;TZID=UTC:20260104T103000
DTEND;TZID=UTC:20260104T123000
DTSTAMP:20260423T215553
CREATED:20250908T070538Z
LAST-MODIFIED:20250908T070538Z
UID:2837-1767522600-1767529800@friendsofkaroricemetery.co.nz
SUMMARY:Tragedies Tour
DESCRIPTION:Come and hear stories of those who met sad\, shocking and untimely ends. This tour traverses some of the older parts of the story where historic headstones mark the stories of lives lost too soon: accidents\, murder\, misadventure and those who fell by their own hand. \nThis tour contains a number of adult themes and some graphic descriptions so is not suitable for everyone. \nTo secure your ticket\, please follow the link to our ticketing page on Humanitix: \nhttps://events.humanitix.com/friends-of-karori-cemetery-tragedies-tour-jan-2026 \nEach tour is $10 per person (plus non-refundable booking fee). Children under 12 are free. \nOur tour has a maximum capacity of about 15 persons. If there are insufficient tickets remaining for your party\, please email us at info@friendsofkaroricemetery.co.nz to check if we can accommodate you. \nPlease note: \nIf we have to cancel a tour due to inclement weather or sickness\, we will notify you on the day 1 hour before the tour starts by email and on our Facebook page. The booking fee is non-refundable. \nThis tour is approximately 2 hours long. \nPlease dress appropriately for the conditions. While we do our best to guide you on a safe walking route\, during the winter months the ground can become slippery in places. \nSome of our walks require a moderate degree of fitness and are not suited for those with limited mobility. \nThere is only one toilet which is located by the cemetery office at the main entrance. \nIf you have purchased tickets for other people can you please pass our tour information on to them as well. \nPlease meet us at the shelter (shown as the Historic Chapel on the map at the main entrance) \nWe look forward to welcoming you to Karori Cemetery.
URL:https://friendsofkaroricemetery.co.nz/event/tragedies-tour-2/
LOCATION:Karori Cemetery\, The Shelter\, Karori Cemetery\, 76 Old Karori Road\, Wellington\, New Zealand
ATTACH;FMTTYPE=image/jpeg:https://friendsofkaroricemetery.co.nz/wp-content/uploads/2025/01/Public2-Angel-3.jpg
END:VEVENT
END:VCALENDAR