BEGIN:VCALENDAR
VERSION:2.0
PRODID:-// - ECPv6.15.20//NONSGML v1.0//EN
CALSCALE:GREGORIAN
METHOD:PUBLISH
X-ORIGINAL-URL:https://friendsofkaroricemetery.co.nz
X-WR-CALDESC:Events for 
REFRESH-INTERVAL;VALUE=DURATION:PT1H
X-Robots-Tag:noindex
X-PUBLISHED-TTL:PT1H
BEGIN:VTIMEZONE
TZID:UTC
BEGIN:STANDARD
TZOFFSETFROM:+0000
TZOFFSETTO:+0000
TZNAME:UTC
DTSTART:20240101T000000
END:STANDARD
END:VTIMEZONE
BEGIN:VEVENT
DTSTART;TZID=UTC:20250803T103000
DTEND;TZID=UTC:20250803T120000
DTSTAMP:20260424T051920
CREATED:20250629T060928Z
LAST-MODIFIED:20250629T060928Z
UID:2798-1754217000-1754222400@friendsofkaroricemetery.co.nz
SUMMARY:Treasures from the Gully Tour
DESCRIPTION:Tour through a very atmospheric part of the cemetery\, with an eclectic mix of stories on an artist\, photographer\, hat manufacturer\, prison reformer and many more! Come and enjoy the beauty of one of the most mystical places in the Cemetery with entertaining stories along the way. \nThe tour will mostly keep to pathways but some areas are potentially uneven underfoot. A moderate level of fitness is required. \nEach tour is $10 per person (plus non-refundable booking fee). Children under 12 are free. \nHow to Book: \nWe now operate online ticketing. To book please follow the link: \nhttps://events.humanitix.com/friends-of-karori-cemetery-treasures-from-the-gully-aug-2025 \nOur tour has a maximum capacity of about 15 persons. If there are insufficient tickets remaining for your party\, please email us on info@friendsofkaroricemetery.co.nz to check if we can accommodate you. \nNote:\nIf we have to cancel a tour due to inclement weather or sickness\, we will notify you on the day by 9am by email and on our Facebook page. The booking fee is non-refundable. \nPlease dress appropriately for the conditions. While we do our best to guide you on a safe walking route\, during the winter months the ground can become slippery in places. \nSome of our walks require a moderate degree of fitness and are not suited for those with limited mobility. Please read the tour descriptions carefully to check that they will be suitable for you. \nWe look forward to welcoming you to Karori Cemetery.
URL:https://friendsofkaroricemetery.co.nz/event/treasures-from-the-gully-tour-3/
LOCATION:Karori Cemetery\, The Shelter\, Karori Cemetery\, 76 Old Karori Road\, Wellington\, New Zealand
ATTACH;FMTTYPE=image/jpeg:https://friendsofkaroricemetery.co.nz/wp-content/uploads/2022/12/IMG_7162-rotated.jpg
END:VEVENT
BEGIN:VEVENT
DTSTART;TZID=UTC:20250803T123000
DTEND;TZID=UTC:20250803T140000
DTSTAMP:20260424T051920
CREATED:20250717T060425Z
LAST-MODIFIED:20250717T061038Z
UID:2801-1754224200-1754229600@friendsofkaroricemetery.co.nz
SUMMARY:Military Tales from the Services Section Tour
DESCRIPTION:Come and hear tales from our military history. \nThe tour duration is 1 hour 30mins. The tour mostly follows paved surfaces but there are some areas of unevenness. \nOur tour has a maximum capacity of about 15 persons. If there are insufficient tickets remaining for your party\, please email us at info@friendsofkaroricemetery.co.nz to check if we can accommodate you. \nTickets cost $10 per person\, children under 12 years are free. To book your ticket please visit our ticketing website Humanitix: \nhttps://events.humanitix.com/friends-of-karori-cemetery-military-tales-from-the-services-section-aug-2025 \nNote:\nIf we have to cancel a tour due to inclement weather or sickness\, we will notify you on the day 1 hour before the tour starts by email and on our Facebook page. \nPlease dress appropriately for the conditions. While we do our best to guide you on a safe walking route\, during the winter months the ground can become slippery in places. \nSome of our walks require a moderate degree of fitness and are not suited for those with limited mobility. Please read the tour descriptions carefully to check that they will be suitable for you. \nWe look forward to welcoming you to Karori Cemetery.
URL:https://friendsofkaroricemetery.co.nz/event/military-tales-from-the-services-section-tour-2/
LOCATION:Karori Cemetery\, The Shelter\, Karori Cemetery\, 76 Old Karori Road\, Wellington\, New Zealand
ATTACH;FMTTYPE=image/jpeg:https://friendsofkaroricemetery.co.nz/wp-content/uploads/2023/10/IMG-20231001-WA0004.jpg
END:VEVENT
END:VCALENDAR