BEGIN:VCALENDAR
VERSION:2.0
PRODID:-// - ECPv6.15.20//NONSGML v1.0//EN
CALSCALE:GREGORIAN
METHOD:PUBLISH
X-ORIGINAL-URL:https://friendsofkaroricemetery.co.nz
X-WR-CALDESC:Events for 
REFRESH-INTERVAL;VALUE=DURATION:PT1H
X-Robots-Tag:noindex
X-PUBLISHED-TTL:PT1H
BEGIN:VTIMEZONE
TZID:UTC
BEGIN:STANDARD
TZOFFSETFROM:+0000
TZOFFSETTO:+0000
TZNAME:UTC
DTSTART:20240101T000000
END:STANDARD
END:VTIMEZONE
BEGIN:VEVENT
DTSTART;TZID=UTC:20250504T110000
DTEND;TZID=UTC:20250504T123000
DTSTAMP:20260424T095804
CREATED:20250316T005042Z
LAST-MODIFIED:20250316T005623Z
UID:2658-1746356400-1746361800@friendsofkaroricemetery.co.nz
SUMMARY:Nation Builders Tour
DESCRIPTION:Our City\, Our Country\, Our Heritage \nMeet some of the men who built our country – the engineers who designed and built railways\, bridges\, viaducts\, ports and harbours; politicians and lawyers who provided the leadership and political frameworks; a surveyor whose detailed maps of Wellington are still used today\, industrialists\, a pre-eminent earthquake scientist\, a judge of the Supreme Court\, and a Premier (4 times!) during the 1880’s. \n*Note: parts of this tour has previously been featured in our Movers and Shakers tour \nEach tour is $10 per person (plus non-refundable booking fee). Children under 12 are free. To secure your place on this tour\, please visit our ticketing website: \nhttps://events.humanitix.com/friends-of-karori-cemetery-nation-builders-tour-may-2024 \nOur tour has a maximum capacity of about 15 persons. If there are insufficient tickets remaining for your party\, please email us at info@friendsofkaroricemetery.co.nz to check if we can accommodate you. \nNote:\nIf we have to cancel a tour due to inclement weather or sickness\, we will notify you on the day by 9am by email and on our Facebook page. The booking fee is non-refundable. \nPlease dress appropriately for the conditions. While we do our best to guide you on a safe walking route\, during the winter months the ground can become slippery in places. \nWe look forward to welcoming you to Karori Cemetery.
URL:https://friendsofkaroricemetery.co.nz/event/nation-builders-tour-3/
LOCATION:Karori Cemetery\, The Shelter\, Karori Cemetery\, 76 Old Karori Road\, Wellington\, New Zealand
ATTACH;FMTTYPE=image/jpeg:https://friendsofkaroricemetery.co.nz/wp-content/uploads/2021/12/IMG_4740.jpg
END:VEVENT
END:VCALENDAR