BEGIN:VCALENDAR
VERSION:2.0
PRODID:-// - ECPv6.15.20//NONSGML v1.0//EN
CALSCALE:GREGORIAN
METHOD:PUBLISH
X-ORIGINAL-URL:https://friendsofkaroricemetery.co.nz
X-WR-CALDESC:Events for 
REFRESH-INTERVAL;VALUE=DURATION:PT1H
X-Robots-Tag:noindex
X-PUBLISHED-TTL:PT1H
BEGIN:VTIMEZONE
TZID:UTC
BEGIN:STANDARD
TZOFFSETFROM:+0000
TZOFFSETTO:+0000
TZNAME:UTC
DTSTART:20240101T000000
END:STANDARD
END:VTIMEZONE
BEGIN:VEVENT
DTSTART;TZID=UTC:20250209T130000
DTEND;TZID=UTC:20250209T150000
DTSTAMP:20260424T143524
CREATED:20241217T173808Z
LAST-MODIFIED:20250202T181645Z
UID:2344-1739106000-1739113200@friendsofkaroricemetery.co.nz
SUMMARY:S.S. Penguin Tour - SOLD OUT
DESCRIPTION:Apologies\, this tour is now sold out. \nOn the 12 February 1909\, the SS Penguin sank in Cook Strait in a raging southerly storm with the loss of 72 lives\, one of the worst maritime disasters in NZ history. Many of those who died were woman and children\, as their lifeboats capsized in the wild sea. \nTo commemorate this tragedy the Friends will be undertaking a guided tour of most of the Penguin graves on Sunday 9th February. The tour will run for up to two hours starting with a short presentation. \nThe tour is $10 per person (plus non-refundable booking fee). Children under 12 are free. Booking is essential and we operate electronic ticketing. Please follow the link below to book your tickets: \nhttps://events.humanitix.com/friends-of-karori-cemetery-ss-penguin-tour-feb-2025 \nOur tour has a maximum capacity of about 15 persons. If there are insufficient tickets remaining for your party\, please email us at info@friendsofkaroricemetery.co.nz to check if we can accommodate you.
URL:https://friendsofkaroricemetery.co.nz/event/s-s-penguin-tour-3/
LOCATION:Karori Cemetery\, The Shelter\, Karori Cemetery\, 76 Old Karori Road\, Wellington\, New Zealand
ATTACH;FMTTYPE=image/jpeg:https://friendsofkaroricemetery.co.nz/wp-content/uploads/2023/01/Hocken-Ships_P_043A.jpg
END:VEVENT
END:VCALENDAR