BEGIN:VCALENDAR
VERSION:2.0
PRODID:-// - ECPv6.15.20//NONSGML v1.0//EN
CALSCALE:GREGORIAN
METHOD:PUBLISH
X-ORIGINAL-URL:https://friendsofkaroricemetery.co.nz
X-WR-CALDESC:Events for 
REFRESH-INTERVAL;VALUE=DURATION:PT1H
X-Robots-Tag:noindex
X-PUBLISHED-TTL:PT1H
BEGIN:VTIMEZONE
TZID:UTC
BEGIN:STANDARD
TZOFFSETFROM:+0000
TZOFFSETTO:+0000
TZNAME:UTC
DTSTART:20230101T000000
END:STANDARD
END:VTIMEZONE
BEGIN:VEVENT
DTSTART;TZID=UTC:20241026T103000
DTEND;TZID=UTC:20241026T120000
DTSTAMP:20260424T205902
CREATED:20240907T190432Z
LAST-MODIFIED:20241006T180145Z
UID:2175-1729938600-1729944000@friendsofkaroricemetery.co.nz
SUMMARY:Wellington Heritage Festival: Accidentally Killed Tour - SOLD OUT
DESCRIPTION:Apologies but this tour has now sold out. \nStep into the past of Karori Cemetery with “Accidentally Killed\,” a hauntingly captivating tour revealing tragic tales of historical mishaps. Explore the untold stories of those who met unexpected ends through bizarre accidents\, shedding light on their lives and the mysteries that surround them. From peculiar accidents to curious incidents\, each grave holds a unique narrative waiting to be discovered. Join us for an unforgettable journey into the lesser-known corners of Wellington’s history\, where every headstone whispers a compelling story. \nThe tour duration is 1 hour 30mins and mostly follows paved surfaces but there are some areas of unevenness. \nEach tour is $10 per person (plus non-refundable booking fee). Children under 12 are free. \nTo book your ticket\, please follow the following link to our ticketing website: \nhttps://events.humanitix.com/host/62dcc703173dab0b2ae6e360 \nOur tour has a maximum capacity of about 15 persons. If there are insufficient tickets remaining for your party\, please email us at info@friendsofkaroricemetery.co.nz to check if we can accommodate you. \nNote:\nIf we have to cancel a tour due to inclement weather or sickness\, we will notify you on the day by 9am by email and on our Facebook page. The booking fee is non-refundable. \nPlease dress appropriately for the conditions. While we do our best to guide you on a safe walking route\, during the winter months the ground can become slippery in places. \nSome of our walks require a moderate degree of fitness and are not suited for those with limited mobility. Please read the tour descriptions carefully to check that they will be suitable for you. \nWe look forward to welcoming you to Karori Cemetery.
URL:https://friendsofkaroricemetery.co.nz/event/wellington-heritage-festival-accidentally-killed-tour/
LOCATION:Karori Cemetery\, The Shelter\, Karori Cemetery\, 76 Old Karori Road\, Wellington\, New Zealand
ATTACH;FMTTYPE=image/jpeg:https://friendsofkaroricemetery.co.nz/wp-content/uploads/2024/09/Accidentally-Killed.jpg
END:VEVENT
BEGIN:VEVENT
DTSTART;TZID=UTC:20241026T200000
DTEND;TZID=UTC:20241026T214500
DTSTAMP:20260424T205902
CREATED:20240907T190722Z
LAST-MODIFIED:20241006T180044Z
UID:2178-1729972800-1729979100@friendsofkaroricemetery.co.nz
SUMMARY:Wellington Heritage Festival: Evening Tour - SOLD OUT
DESCRIPTION:Apologies but this tour has now sold out. \nWould you like to join us and explore the beauty of Karori Cemetery in the evening? \nThis tour is for anyone who would like to see the Cemetery through a different lens\, as the landscape settles in from dusk to darkness. On this walk you’ll be accompanied by two guides who will take you on a wander through some of the most magical parts of the cemetery\, with a story or two of early Wellingtonians along the route. We might even spy a Ruru/Morepork or two! The tour does not have any scary themes. There are points on the tour where we may pause and turn off our torches to enjoy the landscape in the darkness. \nThe tour is of approximately 1.5 – 1.75 hours duration and starts and finishes at the Main Chapel on Rosehaugh Avenue\, where there is plenty of easy parking. \nEach attendee needs to bring their own torch that they can comfortably carry for the duration. No head torches please for the comfort of your fellow walkers. \nThe route mostly follows paved surfaces but there are some areas of unevenness. Surefootedness is required. This tour involves approximately 2km of walking\, with some slow paced but uphill stints. \nThe tour is not suited for children under the age of 12 or unaccompanied minors. There are no toilets on the route. \nEach tour is $10 per person (plus non-refundable booking fee). To book your ticket\, please visit our ticketing website: \nhttps://events.humanitix.com/friends-of-karori-cemetery-wellington-heritage-festival-evening-tour \nOur tour has a maximum capacity of about 15 persons. If there are insufficient tickets remaining for your party\, please email us at info@friendsofkaroricemetery.co.nz to check if we can accommodate you. \nNote:\nIf we have to cancel a tour due to inclement weather or sickness\, we will notify you on the day by 9am by email and on our Facebook page. The booking fee is non-refundable. \nPlease dress appropriately for the conditions. While we do our best to guide you on a safe walking route\, during the winter months the ground can become slippery in places. \nSome of our walks require a moderate degree of fitness and are not suited for those with limited mobility. Please read the tour descriptions carefully to check that they will be suitable for you.
URL:https://friendsofkaroricemetery.co.nz/event/wellington-heritage-festival-evening-tour/
LOCATION:Main Chapel\, Karori Cemetery\, 15 Rosehaugh Avenue\, Karori\, Wellington\, New Zealand
ATTACH;FMTTYPE=image/jpeg:https://friendsofkaroricemetery.co.nz/wp-content/uploads/2023/06/Turnbull-Plots.jpg
END:VEVENT
END:VCALENDAR